BEGIN:VCALENDAR
VERSION:2.0
PRODID:-//Western Dressage Association of Georgia - ECPv6.15.11//NONSGML v1.0//EN
CALSCALE:GREGORIAN
METHOD:PUBLISH
X-ORIGINAL-URL:https://wdageorgia.org
X-WR-CALDESC:Events for Western Dressage Association of Georgia
REFRESH-INTERVAL;VALUE=DURATION:PT1H
X-Robots-Tag:noindex
X-PUBLISHED-TTL:PT1H
BEGIN:VTIMEZONE
TZID:America/New_York
BEGIN:DAYLIGHT
TZOFFSETFROM:-0500
TZOFFSETTO:-0400
TZNAME:EDT
DTSTART:20240310T070000
END:DAYLIGHT
BEGIN:STANDARD
TZOFFSETFROM:-0400
TZOFFSETTO:-0500
TZNAME:EST
DTSTART:20241103T060000
END:STANDARD
BEGIN:DAYLIGHT
TZOFFSETFROM:-0500
TZOFFSETTO:-0400
TZNAME:EDT
DTSTART:20250309T070000
END:DAYLIGHT
BEGIN:STANDARD
TZOFFSETFROM:-0400
TZOFFSETTO:-0500
TZNAME:EST
DTSTART:20251102T060000
END:STANDARD
BEGIN:DAYLIGHT
TZOFFSETFROM:-0500
TZOFFSETTO:-0400
TZNAME:EDT
DTSTART:20260308T070000
END:DAYLIGHT
BEGIN:STANDARD
TZOFFSETFROM:-0400
TZOFFSETTO:-0500
TZNAME:EST
DTSTART:20261101T060000
END:STANDARD
END:VTIMEZONE
BEGIN:VEVENT
DTSTART;TZID=America/New_York:20251108T080000
DTEND;TZID=America/New_York:20251108T170000
DTSTAMP:20260423T194737
CREATED:20250716T201443Z
LAST-MODIFIED:20250716T201443Z
UID:3313-1762588800-1762621200@wdageorgia.org
SUMMARY:Centerline Show Series
DESCRIPTION:Please see Centerline Show Series Facebook page for Prize List and Show Info.
URL:https://wdageorgia.org/event/centerline-show-series-7/
LOCATION:Le Bonheur Equestrian\, Chatsworth\, GA\, 1861 Berry Bennett Rd\, Chatsworth\, GA\, 30705\, United States
END:VEVENT
END:VCALENDAR