BEGIN:VCALENDAR
VERSION:2.0
PRODID:-//Western Dressage Association of Georgia - ECPv6.15.11//NONSGML v1.0//EN
CALSCALE:GREGORIAN
METHOD:PUBLISH
X-ORIGINAL-URL:https://wdageorgia.org
X-WR-CALDESC:Events for Western Dressage Association of Georgia
REFRESH-INTERVAL;VALUE=DURATION:PT1H
X-Robots-Tag:noindex
X-PUBLISHED-TTL:PT1H
BEGIN:VTIMEZONE
TZID:America/New_York
BEGIN:DAYLIGHT
TZOFFSETFROM:-0500
TZOFFSETTO:-0400
TZNAME:EDT
DTSTART:20230312T070000
END:DAYLIGHT
BEGIN:STANDARD
TZOFFSETFROM:-0400
TZOFFSETTO:-0500
TZNAME:EST
DTSTART:20231105T060000
END:STANDARD
BEGIN:DAYLIGHT
TZOFFSETFROM:-0500
TZOFFSETTO:-0400
TZNAME:EDT
DTSTART:20240310T070000
END:DAYLIGHT
BEGIN:STANDARD
TZOFFSETFROM:-0400
TZOFFSETTO:-0500
TZNAME:EST
DTSTART:20241103T060000
END:STANDARD
BEGIN:DAYLIGHT
TZOFFSETFROM:-0500
TZOFFSETTO:-0400
TZNAME:EDT
DTSTART:20250309T070000
END:DAYLIGHT
BEGIN:STANDARD
TZOFFSETFROM:-0400
TZOFFSETTO:-0500
TZNAME:EST
DTSTART:20251102T060000
END:STANDARD
END:VTIMEZONE
BEGIN:VEVENT
DTSTART;TZID=America/New_York:20240127T110000
DTEND;TZID=America/New_York:20240127T140000
DTSTAMP:20260423T154856
CREATED:20231212T170702Z
LAST-MODIFIED:20231212T201800Z
UID:2828-1706353200-1706364000@wdageorgia.org
SUMMARY:Western Dressage Association of Georgia Annual Meeting & Banquet
DESCRIPTION:Members: $40 \nYouth Members $30 \nNon-Members $50 \n\n\n\nCopeland’s of New Orleans (Cumberland) \n3101 Cobb Pkwy\, Suite 220\nAtlanta\, GA 30339 \n\n 
URL:https://wdageorgia.org/event/western-dressage-association-of-georgia-annual-banquet/
LOCATION:Copeland’s of New Orleans (Cumberland)\, 3101 Cobb Pkwy\, Suite 220\, Atlanta\, GA\, 30339\, United States
CATEGORIES:Banquet,Social
END:VEVENT
END:VCALENDAR