BEGIN:VCALENDAR
VERSION:2.0
PRODID:-//Western Dressage Association of Georgia - ECPv6.15.11//NONSGML v1.0//EN
CALSCALE:GREGORIAN
METHOD:PUBLISH
X-WR-CALNAME:Western Dressage Association of Georgia
X-ORIGINAL-URL:https://wdageorgia.org
X-WR-CALDESC:Events for Western Dressage Association of Georgia
REFRESH-INTERVAL;VALUE=DURATION:PT1H
X-Robots-Tag:noindex
X-PUBLISHED-TTL:PT1H
BEGIN:VTIMEZONE
TZID:America/New_York
BEGIN:DAYLIGHT
TZOFFSETFROM:-0500
TZOFFSETTO:-0400
TZNAME:EDT
DTSTART:20220313T070000
END:DAYLIGHT
BEGIN:STANDARD
TZOFFSETFROM:-0400
TZOFFSETTO:-0500
TZNAME:EST
DTSTART:20221106T060000
END:STANDARD
BEGIN:DAYLIGHT
TZOFFSETFROM:-0500
TZOFFSETTO:-0400
TZNAME:EDT
DTSTART:20230312T070000
END:DAYLIGHT
BEGIN:STANDARD
TZOFFSETFROM:-0400
TZOFFSETTO:-0500
TZNAME:EST
DTSTART:20231105T060000
END:STANDARD
BEGIN:DAYLIGHT
TZOFFSETFROM:-0500
TZOFFSETTO:-0400
TZNAME:EDT
DTSTART:20240310T070000
END:DAYLIGHT
BEGIN:STANDARD
TZOFFSETFROM:-0400
TZOFFSETTO:-0500
TZNAME:EST
DTSTART:20241103T060000
END:STANDARD
BEGIN:DAYLIGHT
TZOFFSETFROM:-0500
TZOFFSETTO:-0400
TZNAME:EDT
DTSTART:20250309T070000
END:DAYLIGHT
BEGIN:STANDARD
TZOFFSETFROM:-0400
TZOFFSETTO:-0500
TZNAME:EST
DTSTART:20251102T060000
END:STANDARD
END:VTIMEZONE
BEGIN:VEVENT
DTSTART;VALUE=DATE:20241130
DTEND;VALUE=DATE:20241202
DTSTAMP:20260423T122849
CREATED:20240502T222943Z
LAST-MODIFIED:20240910T132402Z
UID:3025-1732924800-1733097599@wdageorgia.org
SUMMARY:Centerline Show Series
DESCRIPTION:Please visit Centerline Show series on Facebook for show information
URL:https://wdageorgia.org/event/centerline-show-series-5/
LOCATION:Tri-State Exhibition Center\, 200 Natures Trail SW\, McDonald\, TN\, 37353\, United States
CATEGORIES:Horse Show
END:VEVENT
BEGIN:VEVENT
DTSTART;VALUE=DATE:20241026
DTEND;VALUE=DATE:20241027
DTSTAMP:20260423T122849
CREATED:20240310T224123Z
LAST-MODIFIED:20240620T143631Z
UID:2938-1729900800-1729987199@wdageorgia.org
SUMMARY:Five Points Show Series
DESCRIPTION:Visit Five Points Show Series on Facebook for show information
URL:https://wdageorgia.org/event/five-points-show-series-5/
LOCATION:Le Bonheur Equestrian\, Chatsworth\, GA\, 1861 Berry Bennett Rd\, Chatsworth\, GA\, 30705\, United States
CATEGORIES:Horse Show
END:VEVENT
BEGIN:VEVENT
DTSTART;VALUE=DATE:20240921
DTEND;VALUE=DATE:20240922
DTSTAMP:20260423T122849
CREATED:20240310T224015Z
LAST-MODIFIED:20240620T150239Z
UID:2936-1726876800-1726963199@wdageorgia.org
SUMMARY:Five Points Show Series
DESCRIPTION:Please visit foxberry-farm.com for show information
URL:https://wdageorgia.org/event/five-points-show-series-4/
LOCATION:Le Bonheur Equestrian\, Chatsworth\, GA\, 1861 Berry Bennett Rd\, Chatsworth\, GA\, 30705\, United States
CATEGORIES:Horse Show
END:VEVENT
BEGIN:VEVENT
DTSTART;VALUE=DATE:20240914
DTEND;VALUE=DATE:20240915
DTSTAMP:20260423T122849
CREATED:20240310T230610Z
LAST-MODIFIED:20240620T145424Z
UID:2954-1726272000-1726358399@wdageorgia.org
SUMMARY:Foxberry Show Series
DESCRIPTION:Please visit foxberry-farm.com for show information
URL:https://wdageorgia.org/event/foxberry-show-series-2/
LOCATION:Foxberry Farm\, 2340 School Rd.\, Dallas\, GA\, 30132\, United States
CATEGORIES:Horse Show
END:VEVENT
BEGIN:VEVENT
DTSTART;VALUE=DATE:20240810
DTEND;VALUE=DATE:20240812
DTSTAMP:20260423T122849
CREATED:20240310T225742Z
LAST-MODIFIED:20240620T150913Z
UID:2945-1723248000-1723420799@wdageorgia.org
SUMMARY:Centerline Show Series
DESCRIPTION:Please visit Center Line Show Series page on Facebook for show information
URL:https://wdageorgia.org/event/centerline-show-series-2/
LOCATION:Tri-State Exhibition Center\, 200 Natures Trail SW\, McDonald\, TN\, 37353\, United States
CATEGORIES:Horse Show
END:VEVENT
BEGIN:VEVENT
DTSTART;VALUE=DATE:20240629
DTEND;VALUE=DATE:20240630
DTSTAMP:20260423T122849
CREATED:20240310T223915Z
LAST-MODIFIED:20240620T151059Z
UID:2934-1719619200-1719705599@wdageorgia.org
SUMMARY:Five Points Show Series
DESCRIPTION:Please visit Five Points Show Series page on Facebook for show information
URL:https://wdageorgia.org/event/five-points-show-series-3/
LOCATION:Le Bonheur Equestrian\, Chatsworth\, GA\, 1861 Berry Bennett Rd\, Chatsworth\, GA\, 30705\, United States
CATEGORIES:Horse Show
END:VEVENT
BEGIN:VEVENT
DTSTART;VALUE=DATE:20240615
DTEND;VALUE=DATE:20240616
DTSTAMP:20260423T122849
CREATED:20240310T230509Z
LAST-MODIFIED:20240620T145640Z
UID:2952-1718409600-1718495999@wdageorgia.org
SUMMARY:Foxberry Farm Show Series
DESCRIPTION:Please visit foxberry-farm.com for show information
URL:https://wdageorgia.org/event/foxberry-farm-show-series/
LOCATION:Foxberry Farm\, 2340 School Rd.\, Dallas\, GA\, 30132\, United States
CATEGORIES:Horse Show
END:VEVENT
BEGIN:VEVENT
DTSTART;VALUE=DATE:20240518
DTEND;VALUE=DATE:20240519
DTSTAMP:20260423T122849
CREATED:20240310T223758Z
LAST-MODIFIED:20240310T223758Z
UID:2932-1715990400-1716076799@wdageorgia.org
SUMMARY:Five Points Show Series
DESCRIPTION:
URL:https://wdageorgia.org/event/five-points-show-series-2/
LOCATION:Le Bonheur Equestrian\, Chatsworth\, GA\, 1861 Berry Bennett Rd\, Chatsworth\, GA\, 30705\, United States
CATEGORIES:Horse Show
END:VEVENT
BEGIN:VEVENT
DTSTART;VALUE=DATE:20240511
DTEND;VALUE=DATE:20240512
DTSTAMP:20260423T122849
CREATED:20240310T230105Z
LAST-MODIFIED:20240310T230405Z
UID:2949-1715385600-1715471999@wdageorgia.org
SUMMARY:Foxberry Show Series
DESCRIPTION:
URL:https://wdageorgia.org/event/foxberry-show-series/
LOCATION:Foxberry Farm\, 2340 School Rd.\, Dallas\, GA\, 30132\, United States
CATEGORIES:Horse Show
END:VEVENT
BEGIN:VEVENT
DTSTART;VALUE=DATE:20240419
DTEND;VALUE=DATE:20240422
DTSTAMP:20260423T122849
CREATED:20240310T225329Z
LAST-MODIFIED:20240310T225329Z
UID:2941-1713484800-1713743999@wdageorgia.org
SUMMARY:Magnolia Spring Classic
DESCRIPTION:
URL:https://wdageorgia.org/event/magnolia-spring-classic-2/
LOCATION:Perry\, Georgia
CATEGORIES:Horse Show
END:VEVENT
BEGIN:VEVENT
DTSTART;VALUE=DATE:20240330
DTEND;VALUE=DATE:20240401
DTSTAMP:20260423T122849
CREATED:20240310T222910Z
LAST-MODIFIED:20240310T222910Z
UID:2926-1711756800-1711929599@wdageorgia.org
SUMMARY:Centerline Show Series
DESCRIPTION:
URL:https://wdageorgia.org/event/centerline-show-series/
LOCATION:Tri-State Exhibition Center\, 200 Natures Trail SW\, McDonald\, TN\, 37353\, United States
CATEGORIES:Horse Show
END:VEVENT
BEGIN:VEVENT
DTSTART;VALUE=DATE:20240316
DTEND;VALUE=DATE:20240317
DTSTAMP:20260423T122849
CREATED:20240310T225918Z
LAST-MODIFIED:20240310T225918Z
UID:2947-1710547200-1710633599@wdageorgia.org
SUMMARY:Centerline Show Series
DESCRIPTION:
URL:https://wdageorgia.org/event/centerline-show-series-3/
LOCATION:Tri-State Exhibition Center\, 200 Natures Trail SW\, McDonald\, TN\, 37353\, United States
CATEGORIES:Horse Show
END:VEVENT
BEGIN:VEVENT
DTSTART;VALUE=DATE:20240316
DTEND;VALUE=DATE:20240317
DTSTAMP:20260423T122849
CREATED:20240310T223501Z
LAST-MODIFIED:20240310T223501Z
UID:2929-1710547200-1710633599@wdageorgia.org
SUMMARY:Five Points Show Series
DESCRIPTION:
URL:https://wdageorgia.org/event/five-points-show-series/
LOCATION:Le Bonheur Equestrian\, Chatsworth\, GA\, 1861 Berry Bennett Rd\, Chatsworth\, GA\, 30705\, United States
CATEGORIES:Horse Show
END:VEVENT
BEGIN:VEVENT
DTSTART;VALUE=DATE:20231216
DTEND;VALUE=DATE:20231218
DTSTAMP:20260423T122849
CREATED:20230406T202739Z
LAST-MODIFIED:20230406T202800Z
UID:2693-1702684800-1702857599@wdageorgia.org
SUMMARY:Centerline Western Dressage Show
DESCRIPTION:
URL:https://wdageorgia.org/event/centerline-western-dressage-show-6/
LOCATION:Roane State Expo\, Harriman\, Tennessee
CATEGORIES:Horse Show
END:VEVENT
BEGIN:VEVENT
DTSTART;VALUE=DATE:20231028
DTEND;VALUE=DATE:20231029
DTSTAMP:20260423T122849
CREATED:20230406T202958Z
LAST-MODIFIED:20230406T203035Z
UID:2695-1698451200-1698537599@wdageorgia.org
SUMMARY:The Farm at Five Points Show Series
DESCRIPTION:
URL:https://wdageorgia.org/event/the-farm-at-five-points-show-series-3/
LOCATION:TN
CATEGORIES:Horse Show
END:VEVENT
BEGIN:VEVENT
DTSTART;VALUE=DATE:20230909
DTEND;VALUE=DATE:20230911
DTSTAMP:20260423T122849
CREATED:20230406T202619Z
LAST-MODIFIED:20230406T202619Z
UID:2691-1694217600-1694390399@wdageorgia.org
SUMMARY:Centerline Western Dressage Show
DESCRIPTION:
URL:https://wdageorgia.org/event/centerline-western-dressage-show-5/
LOCATION:Roane State Expo\, Harriman\, Tennessee
CATEGORIES:Horse Show
END:VEVENT
BEGIN:VEVENT
DTSTART;VALUE=DATE:20230812
DTEND;VALUE=DATE:20230814
DTSTAMP:20260423T122849
CREATED:20230406T201935Z
LAST-MODIFIED:20230406T202326Z
UID:2687-1691798400-1691971199@wdageorgia.org
SUMMARY:Centerline Western Dressage Show
DESCRIPTION:
URL:https://wdageorgia.org/event/centerline-western-dressage-show-4/
LOCATION:TN
CATEGORIES:Horse Show
END:VEVENT
BEGIN:VEVENT
DTSTART;VALUE=DATE:20230722
DTEND;VALUE=DATE:20230723
DTSTAMP:20260423T122849
CREATED:20230406T202447Z
LAST-MODIFIED:20230406T202447Z
UID:2689-1689984000-1690070399@wdageorgia.org
SUMMARY:North Atlanta Equestrian
DESCRIPTION:
URL:https://wdageorgia.org/event/north-atlanta-equestrian-3/
LOCATION:Cartersville\, Georgia
CATEGORIES:Horse Show
END:VEVENT
BEGIN:VEVENT
DTSTART;VALUE=DATE:20230715
DTEND;VALUE=DATE:20230717
DTSTAMP:20260423T122849
CREATED:20230406T201426Z
LAST-MODIFIED:20230406T202155Z
UID:2682-1689379200-1689551999@wdageorgia.org
SUMMARY:Centerline Western Dressage Show
DESCRIPTION:
URL:https://wdageorgia.org/event/centerline-western-dressage-show-3/
LOCATION:Roane State Expo\, Harriman\, Tennessee
CATEGORIES:Horse Show
END:VEVENT
BEGIN:VEVENT
DTSTART;VALUE=DATE:20230701
DTEND;VALUE=DATE:20230702
DTSTAMP:20260423T122849
CREATED:20230406T201622Z
LAST-MODIFIED:20230406T201622Z
UID:2685-1688169600-1688255999@wdageorgia.org
SUMMARY:The Farm at Five Points Show Series
DESCRIPTION:
URL:https://wdageorgia.org/event/the-farm-at-five-points-show-series-2/
LOCATION:TN
CATEGORIES:Horse Show
END:VEVENT
BEGIN:VEVENT
DTSTART;VALUE=DATE:20230624
DTEND;VALUE=DATE:20230626
DTSTAMP:20260423T122849
CREATED:20230403T193543Z
LAST-MODIFIED:20230406T203352Z
UID:2659-1687564800-1687737599@wdageorgia.org
SUMMARY:Centerline Western Dressage Show
DESCRIPTION:
URL:https://wdageorgia.org/event/centerline-western-dressage-show-2/
LOCATION:Roane State Expo\, Harriman\, Tennessee
CATEGORIES:Horse Show
END:VEVENT
BEGIN:VEVENT
DTSTART;VALUE=DATE:20230520
DTEND;VALUE=DATE:20230521
DTSTAMP:20260423T122849
CREATED:20230406T201027Z
LAST-MODIFIED:20230406T201233Z
UID:2678-1684540800-1684627199@wdageorgia.org
SUMMARY:North Atlanta Equestrian
DESCRIPTION:
URL:https://wdageorgia.org/event/north-atlanta-equestrian-2/
LOCATION:Cartersville\, Georgia
CATEGORIES:Horse Show
END:VEVENT
BEGIN:VEVENT
DTSTART;VALUE=DATE:20230422
DTEND;VALUE=DATE:20230423
DTSTAMP:20260423T122849
CREATED:20230406T194222Z
LAST-MODIFIED:20230406T194222Z
UID:2669-1682121600-1682207999@wdageorgia.org
SUMMARY:North Atlanta Equestrian
DESCRIPTION:
URL:https://wdageorgia.org/event/north-atlanta-equestrian/
LOCATION:TN
CATEGORIES:Horse Show
END:VEVENT
BEGIN:VEVENT
DTSTART;VALUE=DATE:20230421
DTEND;VALUE=DATE:20230424
DTSTAMP:20260423T122849
CREATED:20230406T194543Z
LAST-MODIFIED:20230406T200626Z
UID:2672-1682035200-1682294399@wdageorgia.org
SUMMARY:Magnolia Spring Classic
DESCRIPTION:
URL:https://wdageorgia.org/event/magnolia-spring-classic/
LOCATION:Georgia National Fairgrounds\, Perry\, Georgia
CATEGORIES:Horse Show
END:VEVENT
BEGIN:VEVENT
DTSTART;VALUE=DATE:20230408
DTEND;VALUE=DATE:20230409
DTSTAMP:20260423T122849
CREATED:20230406T200802Z
LAST-MODIFIED:20230406T203306Z
UID:2676-1680912000-1680998399@wdageorgia.org
SUMMARY:The Farm at Five Points Show Series
DESCRIPTION:
URL:https://wdageorgia.org/event/the-farm-at-five-points-show-series/
LOCATION:TN
CATEGORIES:Horse Show
END:VEVENT
BEGIN:VEVENT
DTSTART;VALUE=DATE:20230407
DTEND;VALUE=DATE:20230409
DTSTAMP:20260423T122849
CREATED:20230403T191839Z
LAST-MODIFIED:20230406T203428Z
UID:2655-1680825600-1680998399@wdageorgia.org
SUMMARY:Centerline Western Dressage Show
DESCRIPTION:
URL:https://wdageorgia.org/event/centerline-western-dressage-show/
LOCATION:Tri-State Exhibition Center\, 200 Natures Trail SW\, McDonald\, TN\, 37353\, United States
CATEGORIES:Horse Show
END:VEVENT
END:VCALENDAR