BEGIN:VCALENDAR
VERSION:2.0
PRODID:-//Western Dressage Association of Georgia - ECPv6.15.11//NONSGML v1.0//EN
CALSCALE:GREGORIAN
METHOD:PUBLISH
X-WR-CALNAME:Western Dressage Association of Georgia
X-ORIGINAL-URL:https://wdageorgia.org
X-WR-CALDESC:Events for Western Dressage Association of Georgia
REFRESH-INTERVAL;VALUE=DURATION:PT1H
X-Robots-Tag:noindex
X-PUBLISHED-TTL:PT1H
BEGIN:VTIMEZONE
TZID:America/New_York
BEGIN:DAYLIGHT
TZOFFSETFROM:-0500
TZOFFSETTO:-0400
TZNAME:EDT
DTSTART:20240310T070000
END:DAYLIGHT
BEGIN:STANDARD
TZOFFSETFROM:-0400
TZOFFSETTO:-0500
TZNAME:EST
DTSTART:20241103T060000
END:STANDARD
BEGIN:DAYLIGHT
TZOFFSETFROM:-0500
TZOFFSETTO:-0400
TZNAME:EDT
DTSTART:20250309T070000
END:DAYLIGHT
BEGIN:STANDARD
TZOFFSETFROM:-0400
TZOFFSETTO:-0500
TZNAME:EST
DTSTART:20251102T060000
END:STANDARD
BEGIN:DAYLIGHT
TZOFFSETFROM:-0500
TZOFFSETTO:-0400
TZNAME:EDT
DTSTART:20260308T070000
END:DAYLIGHT
BEGIN:STANDARD
TZOFFSETFROM:-0400
TZOFFSETTO:-0500
TZNAME:EST
DTSTART:20261101T060000
END:STANDARD
BEGIN:DAYLIGHT
TZOFFSETFROM:-0500
TZOFFSETTO:-0400
TZNAME:EDT
DTSTART:20270314T070000
END:DAYLIGHT
BEGIN:STANDARD
TZOFFSETFROM:-0400
TZOFFSETTO:-0500
TZNAME:EST
DTSTART:20271107T060000
END:STANDARD
END:VTIMEZONE
BEGIN:VEVENT
DTSTART;TZID=America/New_York:20251031T080000
DTEND;TZID=America/New_York:20251102T170000
DTSTAMP:20260423T194909
CREATED:20250716T194034Z
LAST-MODIFIED:20250716T194034Z
UID:3304-1761897600-1762102800@wdageorgia.org
SUMMARY:Brandreth Farms Western Dressage Pumpkin Celebration
DESCRIPTION:USEF LICENSED LOCAL COMPETITION\, WDAA and AQHA Recognized  \n3 Full days of Western Dressage Classes \nIndoor Facility – Stalls and Arena under one roof \nJudge:  Lynne Newton (R) \nFarm Contact:  Tori Brandreth – 941-374-0964 (tori@brandrethfarms.com) \nEntries Open October 2025 and close October 2025 \nPlease see website for Prize List
URL:https://wdageorgia.org/event/brandreth-farms-western-dressage-pumpkin-celebration/
LOCATION:Brandreth Farms\, 470 Brandreth Farms Drive\, Talking Rock\, GA\, 30175\, United States
ORGANIZER;CN="Marie Taylor":MAILTO:dabneymill@aol.com
END:VEVENT
BEGIN:VEVENT
DTSTART;TZID=America/New_York:20251108T080000
DTEND;TZID=America/New_York:20251108T170000
DTSTAMP:20260423T194909
CREATED:20250716T201443Z
LAST-MODIFIED:20250716T201443Z
UID:3313-1762588800-1762621200@wdageorgia.org
SUMMARY:Centerline Show Series
DESCRIPTION:Please see Centerline Show Series Facebook page for Prize List and Show Info.
URL:https://wdageorgia.org/event/centerline-show-series-7/
LOCATION:Le Bonheur Equestrian\, Chatsworth\, GA\, 1861 Berry Bennett Rd\, Chatsworth\, GA\, 30705\, United States
END:VEVENT
BEGIN:VEVENT
DTSTART;VALUE=DATE:20251122
DTEND;VALUE=DATE:20251124
DTSTAMP:20260423T194909
CREATED:20241219T182158Z
LAST-MODIFIED:20241219T182158Z
UID:3154-1763769600-1763942399@wdageorgia.org
SUMMARY:Centerline Show
DESCRIPTION:Please see the Centerline Show Series Page on Facebook for show information.
URL:https://wdageorgia.org/event/centerline-show-3/
LOCATION:Tri-State Exhibition Center\, 200 Natures Trail SW\, McDonald\, TN\, 37353\, United States
END:VEVENT
BEGIN:VEVENT
DTSTART;TZID=America/New_York:20260214T080000
DTEND;TZID=America/New_York:20260215T170000
DTSTAMP:20260423T194909
CREATED:20260101T151250Z
LAST-MODIFIED:20260108T204346Z
UID:3331-1771056000-1771174800@wdageorgia.org
SUMMARY:Centerline Show Series "Love Letters"
DESCRIPTION:CSS Love Letters\nJudge:  Janice Mumford
URL:https://wdageorgia.org/event/centerline-show-series-love-letters/
LOCATION:Tri-State Exhibition Center\, 200 Natures Trail SW\, McDonald\, TN\, 37353\, United States
END:VEVENT
BEGIN:VEVENT
DTSTART;TZID=America/New_York:20260220T080000
DTEND;TZID=America/New_York:20260222T170000
DTSTAMP:20260423T194909
CREATED:20260101T152613Z
LAST-MODIFIED:20260101T152613Z
UID:3338-1771574400-1771779600@wdageorgia.org
SUMMARY:Brandreth Farms Western Dressage Buckle Series (4 Shows) Winter Celebration
DESCRIPTION:2026 Brandreth Farms Western Dressage Show Series \nWinter Celebration \nUSEF Licensed Local Competitions\, WDAA and AQHA Recognized \nJudge:  Cindy Butler “R” \nParticipation in all four(4) shows will qualify you for the Series Grand Championship honors. \nFarm Contact:  Tori Brandreth – 941-374-0964 (tori@brandrethfarms.com)
URL:https://wdageorgia.org/event/brandreth-farms-western-dressage-buckle-series-4-shows-winter-celebration/
LOCATION:Brandreth Farms\, 470 Brandreth Farms Drive\, Talking Rock\, GA\, 30175\, United States
ORGANIZER;CN="Marie Taylor":MAILTO:dabneymill@aol.com
END:VEVENT
BEGIN:VEVENT
DTSTART;TZID=America/New_York:20260228T130000
DTEND;TZID=America/New_York:20260228T160000
DTSTAMP:20260423T194909
CREATED:20241219T175605Z
LAST-MODIFIED:20260225T162438Z
UID:3135-1772283600-1772294400@wdageorgia.org
SUMMARY:2025 Western Dressage Association of Georgia Annual Banquet
DESCRIPTION:The 2025 Western Dressage Association of Georgia Annual Banquet will be held on Saturday\, February 1\, 2025 at the Gordon County Agricultural Service Center. \n\nHello Everyone! We hope you had a great new year. We are excited to celebrate your accomplishments from this past year at our WDAGA Annual Awards Ceremony and Banquet. To sign up\, please follow the link below:\n\nhttps://form.jotform.com/250135442334144
URL:https://wdageorgia.org/event/2024-western-dressage-association-of-georgia-annual-banquet/
LOCATION:Gordon County Agricultural Service Center\, 1282 53-Spur\, Calhoun\, GA\, 30701\, United States
ORGANIZER;CN="Olivia Tierce":MAILTO:oliviat625@bellsouth.net
END:VEVENT
BEGIN:VEVENT
DTSTART;TZID=America/New_York:20260322T080000
DTEND;TZID=America/New_York:20260322T170000
DTSTAMP:20260423T194909
CREATED:20260225T164841Z
LAST-MODIFIED:20260225T174216Z
UID:3434-1774166400-1774198800@wdageorgia.org
SUMMARY:Bouckaert Farm Schooling Show
DESCRIPTION:
URL:https://wdageorgia.org/event/bouckaert-farm-schooling-show/
LOCATION:Bouckaert Farm\, 10045 Cedar Grove Rd\, Fairburn\, GA\, 30213\, United States
END:VEVENT
BEGIN:VEVENT
DTSTART;TZID=America/New_York:20260417T080000
DTEND;TZID=America/New_York:20260419T170000
DTSTAMP:20260423T194909
CREATED:20260304T115051Z
LAST-MODIFIED:20260304T115051Z
UID:3490-1776412800-1776618000@wdageorgia.org
SUMMARY:Magnolia Spring Classic
DESCRIPTION:
URL:https://wdageorgia.org/event/magnolia-spring-classic-3/
LOCATION:Georgia National Fairgrounds\, Perry\, Georgia
ORGANIZER;CN="Lynn Daniel%2C Show Manager":MAILTO:magnoliaaha@outlook.com
END:VEVENT
BEGIN:VEVENT
DTSTART;VALUE=DATE:20260509
DTEND;VALUE=DATE:20260510
DTSTAMP:20260423T194909
CREATED:20260302T015456Z
LAST-MODIFIED:20260302T020237Z
UID:3480-1778284800-1778371199@wdageorgia.org
SUMMARY:Foxberry Farm CT\, Dressage Schooling Show
DESCRIPTION:Judge:  Sally Crews \nShow Secretary: \nDenise Etheridge\n180 Potomac Drive\nDallas\, GA 30132\n(770) 318 6330\ndenisefoxberry@gmail.com
URL:https://wdageorgia.org/event/foxberry-farm-ct-dressage-schooling-show/
LOCATION:Foxberry Farm\, 2340 School Rd.\, Dallas\, GA\, 30132\, United States
END:VEVENT
BEGIN:VEVENT
DTSTART;TZID=America/New_York:20260515T080000
DTEND;TZID=America/New_York:20260517T170000
DTSTAMP:20260423T194909
CREATED:20260101T152806Z
LAST-MODIFIED:20260101T152806Z
UID:3340-1778832000-1779037200@wdageorgia.org
SUMMARY:Brandreth Farms Western Dressage Buckle Series Spring Celebration
DESCRIPTION:2026 Brandreth Farms Western Dressage Show Series \nSpring Celebration\nUSEF Licensed Local Competitions\, WDAA and AQHA Recognized \nJudge:  Lynne Newton “R” \nParticipation in all four(4) shows will qualify you for the Series Grand Championship honors. \nFarm Contact:  Tori Brandreth – 941-374-0964 (tori@brandrethfarms.com)
URL:https://wdageorgia.org/event/brandreth-farms-western-dressage-buckle-series-spring-celebration/
LOCATION:Brandreth Farms\, 470 Brandreth Farms Drive\, Talking Rock\, GA\, 30175\, United States
ORGANIZER;CN="Marie Taylor":MAILTO:dabneymill@aol.com
END:VEVENT
BEGIN:VEVENT
DTSTART;TZID=America/New_York:20260605T080000
DTEND;TZID=America/New_York:20260607T170000
DTSTAMP:20260423T194909
CREATED:20260101T153144Z
LAST-MODIFIED:20260101T153144Z
UID:3342-1780646400-1780851600@wdageorgia.org
SUMMARY:Brandreth Farms Western Dressage Buckle Series Summer Celebration
DESCRIPTION:2026 Brandreth Farms Western Dressage Show Series \nSummer Celebration \nUSEF Licensed Local Competitions\, WDAA and AQHA Recognized \nJudge:  Wayne Quarles “R” \nParticipation in all four(4) shows will qualify you for the Series Grand Championship honors. \nFarm Contact:  Tori Brandreth – 941-374-0964 (tori@brandrethfarms.com)
URL:https://wdageorgia.org/event/brandreth-farms-western-dressage-buckle-series-summer-celebration/
LOCATION:Brandreth Farms\, 470 Brandreth Farms Drive\, Talking Rock\, GA\, 30175\, United States
ORGANIZER;CN="Marie Taylor":MAILTO:dabneymill@aol.com
END:VEVENT
BEGIN:VEVENT
DTSTART;TZID=America/New_York:20260607T080000
DTEND;TZID=America/New_York:20260607T170000
DTSTAMP:20260423T194909
CREATED:20260225T172308Z
LAST-MODIFIED:20260225T172308Z
UID:3450-1780819200-1780851600@wdageorgia.org
SUMMARY:Bouckaert Farm Schooling Show
DESCRIPTION:
URL:https://wdageorgia.org/event/bouckaert-farm-schooling-show-3/
LOCATION:Bouckaert Farm\, 10045 Cedar Grove Rd\, Fairburn\, GA\, 30213\, United States
END:VEVENT
BEGIN:VEVENT
DTSTART;VALUE=DATE:20260613
DTEND;VALUE=DATE:20260614
DTSTAMP:20260423T194909
CREATED:20260302T015723Z
LAST-MODIFIED:20260302T020420Z
UID:3482-1781308800-1781395199@wdageorgia.org
SUMMARY:Foxberry Farm CT\, Dressage Schooling Show
DESCRIPTION:Judge:  Amy Humble Lanier \nShow Secretary: \nDenise Etheridge\n180 Potomac Drive\nDallas\, GA 30132\n(770) 318 6330\ndenisefoxberry@gmail.com
URL:https://wdageorgia.org/event/foxberry-farm-ct-dressage-schooling-show-2/
LOCATION:Foxberry Farm\, 2340 School Rd.\, Dallas\, GA\, 30132\, United States
ORGANIZER;CN="Foxberry Farm":MAILTO:info@foxberry-farm.com
END:VEVENT
BEGIN:VEVENT
DTSTART;TZID=America/New_York:20260719T080000
DTEND;TZID=America/New_York:20260719T170000
DTSTAMP:20260423T194909
CREATED:20260225T171808Z
LAST-MODIFIED:20260225T174139Z
UID:3448-1784448000-1784480400@wdageorgia.org
SUMMARY:Bouckaert Farm Schooling Show
DESCRIPTION:
URL:https://wdageorgia.org/event/bouckaert-farm-schooling-show-2/
LOCATION:Bouckaert Farm\, 10045 Cedar Grove Rd\, Fairburn\, GA\, 30213\, United States
END:VEVENT
BEGIN:VEVENT
DTSTART;TZID=America/New_York:20260801T080000
DTEND;TZID=America/New_York:20260802T170000
DTSTAMP:20260423T194909
CREATED:20260101T151536Z
LAST-MODIFIED:20260108T204849Z
UID:3334-1785571200-1785690000@wdageorgia.org
SUMMARY:Centerline Show Series "Bee's Knees" Summer Show
DESCRIPTION:CSS BEE’S KNEES SUMMER SHOW \nJUDGE:  Carol Bishop
URL:https://wdageorgia.org/event/centerline-show-series-8/
LOCATION:Tri-State Exhibition Center\, 200 Natures Trail SW\, McDonald\, TN\, 37353\, United States
END:VEVENT
BEGIN:VEVENT
DTSTART;TZID=America/New_York:20260911T080000
DTEND;TZID=America/New_York:20260913T170000
DTSTAMP:20260423T194909
CREATED:20260101T153332Z
LAST-MODIFIED:20260101T153618Z
UID:3346-1789113600-1789318800@wdageorgia.org
SUMMARY:Brandreth Farms Western Dressage Buckle Series Fall Pumpkin Celebration
DESCRIPTION:2026 Brandreth Farms Western Dressage Show Series \nFall Celebration \nUSEF Licensed Local Competitions\, WDAA and AQHA Recognized \nJudge:  Carol Bishop “R” \nParticipation in all four(4) shows will qualify you for the Series Grand Championship honors. \nFarm Contact:  Tori Brandreth – 941-374-0964 (tori@brandrethfarms.com)
URL:https://wdageorgia.org/event/brandreth-farms-western-dressage-buckle-series-fall-pumpkin-celebration/
LOCATION:Brandreth Farms\, 470 Brandreth Farms Drive\, Talking Rock\, GA\, 30175\, United States
ORGANIZER;CN="Marie Taylor":MAILTO:dabneymill@aol.com
END:VEVENT
BEGIN:VEVENT
DTSTART;TZID=America/New_York:20260913T080000
DTEND;TZID=America/New_York:20260913T170000
DTSTAMP:20260423T194909
CREATED:20260225T173335Z
LAST-MODIFIED:20260225T174029Z
UID:3456-1789286400-1789318800@wdageorgia.org
SUMMARY:Bouckaert Farm Schooling Show
DESCRIPTION:
URL:https://wdageorgia.org/event/bouckaert-farm-schooling-show-4/
LOCATION:Bouckaert Farm\, 10045 Cedar Grove Rd\, Fairburn\, GA\, 30213\, United States
END:VEVENT
BEGIN:VEVENT
DTSTART;VALUE=DATE:20260919
DTEND;VALUE=DATE:20260920
DTSTAMP:20260423T194909
CREATED:20260302T015850Z
LAST-MODIFIED:20260302T020324Z
UID:3484-1789776000-1789862399@wdageorgia.org
SUMMARY:Foxberry Farm CT\, Dressage Schooling Show
DESCRIPTION:Judge:  Robin Tardy \nShow Secretary: \nDenise Etheridge\n180 Potomac Drive\nDallas\, GA 30132\n(770) 318 6330\ndenisefoxberry@gmail.com
URL:https://wdageorgia.org/event/foxberry-farm-ct-dressage-schooling-show-3/
LOCATION:Foxberry Farm\, 2340 School Rd.\, Dallas\, GA\, 30132\, United States
END:VEVENT
BEGIN:VEVENT
DTSTART;TZID=America/New_York:20261205T080000
DTEND;TZID=America/New_York:20261206T170000
DTSTAMP:20260423T194909
CREATED:20260101T151635Z
LAST-MODIFIED:20260108T204945Z
UID:3336-1796457600-1796576400@wdageorgia.org
SUMMARY:Centerline Show Series "Sleigh the Day"
DESCRIPTION:CSS Sleigh the Day \nJUDGE:  Katharina Nowotny-Boles
URL:https://wdageorgia.org/event/centerline-show-series-9/
LOCATION:Tri-State Exhibition Center\, 200 Natures Trail SW\, McDonald\, TN\, 37353\, United States
END:VEVENT
BEGIN:VEVENT
DTSTART;TZID=America/New_York:20261206T080000
DTEND;TZID=America/New_York:20261206T170000
DTSTAMP:20260423T194909
CREATED:20260225T173737Z
LAST-MODIFIED:20260225T173738Z
UID:3458-1796544000-1796576400@wdageorgia.org
SUMMARY:Bouckaert Farm Schooling Show
DESCRIPTION:
URL:https://wdageorgia.org/event/bouckaert-farm-schooling-show-5/
LOCATION:Bouckaert Farm\, 10045 Cedar Grove Rd\, Fairburn\, GA\, 30213\, United States
END:VEVENT
END:VCALENDAR