BEGIN:VCALENDAR
VERSION:2.0
PRODID:-//Western Dressage Association of Georgia - ECPv6.15.11//NONSGML v1.0//EN
CALSCALE:GREGORIAN
METHOD:PUBLISH
X-WR-CALNAME:Western Dressage Association of Georgia
X-ORIGINAL-URL:https://wdageorgia.org
X-WR-CALDESC:Events for Western Dressage Association of Georgia
REFRESH-INTERVAL;VALUE=DURATION:PT1H
X-Robots-Tag:noindex
X-PUBLISHED-TTL:PT1H
BEGIN:VTIMEZONE
TZID:America/New_York
BEGIN:DAYLIGHT
TZOFFSETFROM:-0500
TZOFFSETTO:-0400
TZNAME:EDT
DTSTART:20220313T070000
END:DAYLIGHT
BEGIN:STANDARD
TZOFFSETFROM:-0400
TZOFFSETTO:-0500
TZNAME:EST
DTSTART:20221106T060000
END:STANDARD
BEGIN:DAYLIGHT
TZOFFSETFROM:-0500
TZOFFSETTO:-0400
TZNAME:EDT
DTSTART:20230312T070000
END:DAYLIGHT
BEGIN:STANDARD
TZOFFSETFROM:-0400
TZOFFSETTO:-0500
TZNAME:EST
DTSTART:20231105T060000
END:STANDARD
BEGIN:DAYLIGHT
TZOFFSETFROM:-0500
TZOFFSETTO:-0400
TZNAME:EDT
DTSTART:20240310T070000
END:DAYLIGHT
BEGIN:STANDARD
TZOFFSETFROM:-0400
TZOFFSETTO:-0500
TZNAME:EST
DTSTART:20241103T060000
END:STANDARD
END:VTIMEZONE
BEGIN:VEVENT
DTSTART;VALUE=DATE:20230421
DTEND;VALUE=DATE:20230424
DTSTAMP:20260425T104634
CREATED:20230406T194543Z
LAST-MODIFIED:20230406T200626Z
UID:2672-1682035200-1682294399@wdageorgia.org
SUMMARY:Magnolia Spring Classic
DESCRIPTION:
URL:https://wdageorgia.org/event/magnolia-spring-classic/
LOCATION:Georgia National Fairgrounds\, Perry\, Georgia
CATEGORIES:Horse Show
END:VEVENT
BEGIN:VEVENT
DTSTART;VALUE=DATE:20230408
DTEND;VALUE=DATE:20230409
DTSTAMP:20260425T104634
CREATED:20230406T200802Z
LAST-MODIFIED:20230406T203306Z
UID:2676-1680912000-1680998399@wdageorgia.org
SUMMARY:The Farm at Five Points Show Series
DESCRIPTION:
URL:https://wdageorgia.org/event/the-farm-at-five-points-show-series/
LOCATION:GA
CATEGORIES:Horse Show
END:VEVENT
BEGIN:VEVENT
DTSTART;VALUE=DATE:20230407
DTEND;VALUE=DATE:20230409
DTSTAMP:20260425T104634
CREATED:20230403T191839Z
LAST-MODIFIED:20230406T203428Z
UID:2655-1680825600-1680998399@wdageorgia.org
SUMMARY:Centerline Western Dressage Show
DESCRIPTION:
URL:https://wdageorgia.org/event/centerline-western-dressage-show/
LOCATION:Tri-State Exhibition Center\, 200 Natures Trail SW\, McDonald\, TN\, 37353\, United States
CATEGORIES:Horse Show
END:VEVENT
BEGIN:VEVENT
DTSTART;TZID=America/New_York:20230401T080000
DTEND;TZID=America/New_York:20230401T170000
DTSTAMP:20260425T104634
CREATED:20230329T131844Z
LAST-MODIFIED:20230329T132445Z
UID:2642-1680336000-1680368400@wdageorgia.org
SUMMARY:Horse Show
DESCRIPTION:it is a great show
URL:https://wdageorgia.org/event/horse-show/
LOCATION:Georgia Horse Park\, 123\, lawrenceville\, GA\, 30046\, United States
ATTACH;FMTTYPE=image/jpeg:https://wdageorgia.org/wp-content/uploads/2019/02/2018-WHLPAP-supreme-buckle-1.jpg
END:VEVENT
END:VCALENDAR