BEGIN:VCALENDAR
VERSION:2.0
PRODID:-//Western Dressage Association of Georgia - ECPv6.15.11//NONSGML v1.0//EN
CALSCALE:GREGORIAN
METHOD:PUBLISH
X-WR-CALNAME:Western Dressage Association of Georgia
X-ORIGINAL-URL:https://wdageorgia.org
X-WR-CALDESC:Events for Western Dressage Association of Georgia
REFRESH-INTERVAL;VALUE=DURATION:PT1H
X-Robots-Tag:noindex
X-PUBLISHED-TTL:PT1H
BEGIN:VTIMEZONE
TZID:America/New_York
BEGIN:DAYLIGHT
TZOFFSETFROM:-0500
TZOFFSETTO:-0400
TZNAME:EDT
DTSTART:20240310T070000
END:DAYLIGHT
BEGIN:STANDARD
TZOFFSETFROM:-0400
TZOFFSETTO:-0500
TZNAME:EST
DTSTART:20241103T060000
END:STANDARD
BEGIN:DAYLIGHT
TZOFFSETFROM:-0500
TZOFFSETTO:-0400
TZNAME:EDT
DTSTART:20250309T070000
END:DAYLIGHT
BEGIN:STANDARD
TZOFFSETFROM:-0400
TZOFFSETTO:-0500
TZNAME:EST
DTSTART:20251102T060000
END:STANDARD
BEGIN:DAYLIGHT
TZOFFSETFROM:-0500
TZOFFSETTO:-0400
TZNAME:EDT
DTSTART:20260308T070000
END:DAYLIGHT
BEGIN:STANDARD
TZOFFSETFROM:-0400
TZOFFSETTO:-0500
TZNAME:EST
DTSTART:20261101T060000
END:STANDARD
END:VTIMEZONE
BEGIN:VEVENT
DTSTART;TZID=America/New_York:20250906T080000
DTEND;TZID=America/New_York:20250906T170000
DTSTAMP:20260423T211340
CREATED:20250716T201045Z
LAST-MODIFIED:20250716T201045Z
UID:3311-1757145600-1757178000@wdageorgia.org
SUMMARY:Centerline Show Series
DESCRIPTION:WDAA Recognized  Please see Centerline Show Series Facebook page for Prize List for entry information.
URL:https://wdageorgia.org/event/centerline-show-series-6/
LOCATION:Le Bonheur Equestrian\, Chatsworth\, GA\, 1861 Berry Bennett Rd\, Chatsworth\, GA\, 30705\, United States
END:VEVENT
BEGIN:VEVENT
DTSTART;VALUE=DATE:20250913
DTEND;VALUE=DATE:20250914
DTSTAMP:20260423T211340
CREATED:20250116T151704Z
LAST-MODIFIED:20250116T151704Z
UID:3176-1757721600-1757807999@wdageorgia.org
SUMMARY:Foxberry Farm 3-Phase\, CT\, Dressage\, and Western Dressage Schooling Show
DESCRIPTION:Please see link for show information and sign up.
URL:https://wdageorgia.org/event/foxberry-farm-3-phase-ct-dressage-and-western-dressage-schooling-show-4/
LOCATION:Foxberry Farm\, 2340 School Rd.\, Dallas\, GA\, 30132\, United States
ORGANIZER;CN="Foxberry Farm":MAILTO:info@foxberry-farm.com
END:VEVENT
BEGIN:VEVENT
DTSTART;TZID=America/New_York:20250919T080000
DTEND;TZID=America/New_York:20250921T170000
DTSTAMP:20260423T211340
CREATED:20250716T192213Z
LAST-MODIFIED:20250716T194224Z
UID:3297-1758268800-1758474000@wdageorgia.org
SUMMARY:Brandreth Farms Western Dressage Fall Celebration
DESCRIPTION:USEF LICENSED LOCAL COMPETITION\, WDAA and AQHA Recognized  \n3 Full days of Western Dressage Classes \nIndoor Facility – Stalls and Arena under one roof \nJudge:  Janice Mumford (R) \nFarm Contact:  Tori Brandreth – 941-374-0964 (tori@brandrethfarms.com) \nEntries Open August 19\, 2025 and close August 26\, 2025 \nPlease see website for Prize List
URL:https://wdageorgia.org/event/brandreth-farms-western-dressage-fall-celebration/
LOCATION:Brandreth Farms\, 470 Brandreth Farms Drive\, Talking Rock\, GA\, 30175\, United States
ORGANIZER;CN="Marie Taylor":MAILTO:dabneymill@aol.com
END:VEVENT
END:VCALENDAR