BEGIN:VCALENDAR
VERSION:2.0
PRODID:-//Western Dressage Association of Georgia - ECPv6.15.11//NONSGML v1.0//EN
CALSCALE:GREGORIAN
METHOD:PUBLISH
X-ORIGINAL-URL:https://wdageorgia.org
X-WR-CALDESC:Events for Western Dressage Association of Georgia
REFRESH-INTERVAL;VALUE=DURATION:PT1H
X-Robots-Tag:noindex
X-PUBLISHED-TTL:PT1H
BEGIN:VTIMEZONE
TZID:America/New_York
BEGIN:DAYLIGHT
TZOFFSETFROM:-0500
TZOFFSETTO:-0400
TZNAME:EDT
DTSTART:20250309T070000
END:DAYLIGHT
BEGIN:STANDARD
TZOFFSETFROM:-0400
TZOFFSETTO:-0500
TZNAME:EST
DTSTART:20251102T060000
END:STANDARD
BEGIN:DAYLIGHT
TZOFFSETFROM:-0500
TZOFFSETTO:-0400
TZNAME:EDT
DTSTART:20260308T070000
END:DAYLIGHT
BEGIN:STANDARD
TZOFFSETFROM:-0400
TZOFFSETTO:-0500
TZNAME:EST
DTSTART:20261101T060000
END:STANDARD
BEGIN:DAYLIGHT
TZOFFSETFROM:-0500
TZOFFSETTO:-0400
TZNAME:EDT
DTSTART:20270314T070000
END:DAYLIGHT
BEGIN:STANDARD
TZOFFSETFROM:-0400
TZOFFSETTO:-0500
TZNAME:EST
DTSTART:20271107T060000
END:STANDARD
END:VTIMEZONE
BEGIN:VEVENT
DTSTART;VALUE=DATE:20260509
DTEND;VALUE=DATE:20260510
DTSTAMP:20260423T122552
CREATED:20260302T015456Z
LAST-MODIFIED:20260302T020237Z
UID:3480-1778284800-1778371199@wdageorgia.org
SUMMARY:Foxberry Farm CT\, Dressage Schooling Show
DESCRIPTION:Judge:  Sally Crews \nShow Secretary: \nDenise Etheridge\n180 Potomac Drive\nDallas\, GA 30132\n(770) 318 6330\ndenisefoxberry@gmail.com
URL:https://wdageorgia.org/event/foxberry-farm-ct-dressage-schooling-show/
LOCATION:Foxberry Farm\, 2340 School Rd.\, Dallas\, GA\, 30132\, United States
END:VEVENT
BEGIN:VEVENT
DTSTART;TZID=America/New_York:20260515T080000
DTEND;TZID=America/New_York:20260517T170000
DTSTAMP:20260423T122552
CREATED:20260101T152806Z
LAST-MODIFIED:20260101T152806Z
UID:3340-1778832000-1779037200@wdageorgia.org
SUMMARY:Brandreth Farms Western Dressage Buckle Series Spring Celebration
DESCRIPTION:2026 Brandreth Farms Western Dressage Show Series \nSpring Celebration\nUSEF Licensed Local Competitions\, WDAA and AQHA Recognized \nJudge:  Lynne Newton “R” \nParticipation in all four(4) shows will qualify you for the Series Grand Championship honors. \nFarm Contact:  Tori Brandreth – 941-374-0964 (tori@brandrethfarms.com)
URL:https://wdageorgia.org/event/brandreth-farms-western-dressage-buckle-series-spring-celebration/
LOCATION:Brandreth Farms\, 470 Brandreth Farms Drive\, Talking Rock\, GA\, 30175\, United States
ORGANIZER;CN="Marie Taylor":MAILTO:dabneymill@aol.com
END:VEVENT
END:VCALENDAR